BEGIN:VCALENDAR
VERSION:2.0
PRODID:SchoolNow
CALSCALE:GREGORIAN
BEGIN:VEVENT
UID:3eef6ffa-d85e-11e8-9506-0ad088066d1c
DTSTAMP:20181025T170041Z
SUMMARY:Eagle Select Basketball at Riley vs. Byron Center
URL;VALUE=URI:https://www.hudsonvillepublicschools.org/rileystreet/athletic
 s/calendar/1896784/eagle-select-basketball-at-riley-vs-byron-center
DTSTART:20181108T210000Z
DTEND:20181108T233000Z
END:VEVENT
END:VCALENDAR
