BEGIN:VCALENDAR
VERSION:2.0
PRODID:SchoolNow
CALSCALE:GREGORIAN
BEGIN:VEVENT
UID:f4f721d6-d85d-11e8-84b7-1246e3fa2a14
DTSTAMP:20181025T170019Z
SUMMARY:Eagle Select Basketball at Riley vs. Grandville
URL;VALUE=URI:https://www.hudsonvillepublicschools.org/rileystreet/athletic
 s/calendar/1896783/eagle-select-basketball-at-riley-vs-grandville
DTSTART:20181106T210000Z
DTEND:20181106T233000Z
END:VEVENT
END:VCALENDAR
