BEGIN:VCALENDAR
VERSION:2.0
PRODID:SchoolNow
CALSCALE:GREGORIAN
BEGIN:VEVENT
UID:d0a246da-d85d-11e8-9c84-1246e3fa2a14
DTSTAMP:20181025T165952Z
SUMMARY:Eagle Select Basketball at Mona Shores
URL;VALUE=URI:https://www.hudsonvillepublicschools.org/rileystreet/athletic
 s/calendar/1896782/eagle-select-basketball-at-mona-shores
DTSTART:20181030T200000Z
DTEND:20181030T223000Z
END:VEVENT
END:VCALENDAR
