BEGIN:VCALENDAR
VERSION:2.0
PRODID:SchoolNow
CALSCALE:GREGORIAN
BEGIN:VEVENT
UID:b40e4a52-d630-11e8-a5e1-12fced445b34
DTSTAMP:20181022T192850Z
SUMMARY:Boys Basketball vs West Ottawa
URL;VALUE=URI:https://www.hudsonvillepublicschools.org/rileystreet/athletic
 s/calendar/1894661/boys-basketball-vs-west-ottawa
DTSTART:20181212T210000Z
DTEND:20181212T233000Z
END:VEVENT
END:VCALENDAR
