BEGIN:VCALENDAR
VERSION:2.0
PRODID:SchoolNow
CALSCALE:GREGORIAN
BEGIN:VEVENT
UID:7551b556-d630-11e8-b636-0a55d3468af6
DTSTAMP:20181022T192704Z
SUMMARY:Boys Basketball at Valleywood
URL;VALUE=URI:https://www.hudsonvillepublicschools.org/rileystreet/athletic
 s/calendar/1894659/boys-basketball-at-valleywood
DTSTART:20181210T210000Z
DTEND:20181210T233000Z
END:VEVENT
END:VCALENDAR
