BEGIN:VCALENDAR
VERSION:2.0
PRODID:SchoolNow
CALSCALE:GREGORIAN
BEGIN:VEVENT
UID:f48e2e06-d62d-11e8-89fe-126f77ee39e4
DTSTAMP:20181022T192741Z
SUMMARY:Boys Basketball vs. Pinewood
URL;VALUE=URI:https://www.hudsonvillepublicschools.org/rileystreet/athletic
 s/calendar/1894655/boys-basketball-vs-pinewood
DTSTART:20181205T210000Z
DTEND:20181205T233000Z
END:VEVENT
END:VCALENDAR
