BEGIN:VCALENDAR
VERSION:2.0
PRODID:SchoolNow
CALSCALE:GREGORIAN
BEGIN:VEVENT
UID:bdcf3f40-d62d-11e8-8a65-0a55d3468af6
DTSTAMP:20181022T190738Z
SUMMARY:Boys Basketball vs. Byron Center
URL;VALUE=URI:https://www.hudsonvillepublicschools.org/rileystreet/athletic
 s/calendar/1894654/boys-basketball-vs-byron-center
DTSTART:20181203T210000Z
DTEND:20181203T233000Z
END:VEVENT
END:VCALENDAR
