BEGIN:VCALENDAR
VERSION:2.0
PRODID:SchoolNow
CALSCALE:GREGORIAN
BEGIN:VEVENT
UID:81c7fbd6-d62d-11e8-aa0c-0a31a00436fc
DTSTAMP:20181025T170355Z
SUMMARY:Boys Basketball at Jenison
URL;VALUE=URI:https://www.hudsonvillepublicschools.org/rileystreet/athletic
 s/calendar/1894653/boys-basketball-at-jenison
DTSTART:20181128T210000Z
DTEND:20181128T233000Z
END:VEVENT
END:VCALENDAR
