BEGIN:VCALENDAR
VERSION:2.0
PRODID:SchoolNow
CALSCALE:GREGORIAN
BEGIN:VEVENT
UID:46470c00-d62d-11e8-b3b6-0a55d3468af6
DTSTAMP:20181022T190417Z
SUMMARY:Boys Basketball vs Grand Haven
URL;VALUE=URI:https://www.hudsonvillepublicschools.org/rileystreet/athletic
 s/calendar/1894651/boys-basketball-vs-grand-haven
DTSTART:20181126T210000Z
DTEND:20181126T233000Z
END:VEVENT
END:VCALENDAR
