BEGIN:VCALENDAR
VERSION:2.0
PRODID:SchoolNow
CALSCALE:GREGORIAN
BEGIN:VEVENT
UID:cf7fb6e0-d62b-11e8-96a2-12fced445b34
DTSTAMP:20181022T185348Z
SUMMARY:Boys Basketball at Zeeland Creekside
URL;VALUE=URI:https://www.hudsonvillepublicschools.org/rileystreet/athletic
 s/calendar/1894649/boys-basketball-at-zeeland-creekside
DTSTART:20181119T210000Z
DTEND:20181119T233000Z
END:VEVENT
END:VCALENDAR
