BEGIN:VCALENDAR
VERSION:2.0
PRODID:SchoolNow
CALSCALE:GREGORIAN
BEGIN:VEVENT
UID:9c75e2ec-d62b-11e8-bccc-12c7da33a494
DTSTAMP:20181022T185223Z
SUMMARY:Boys Basketball vs. Muskegon
URL;VALUE=URI:https://www.hudsonvillepublicschools.org/rileystreet/athletic
 s/calendar/1894644/boys-basketball-vs-muskegon
DTSTART:20181115T210000Z
DTEND:20181115T233000Z
END:VEVENT
END:VCALENDAR
