BEGIN:VCALENDAR
VERSION:2.0
PRODID:SchoolNow
CALSCALE:GREGORIAN
BEGIN:VEVENT
UID:bc583b02-d629-11e8-94a6-0a2b1ee9a5ec
DTSTAMP:20181022T183857Z
SUMMARY:Boys Basketball at Grandville
URL;VALUE=URI:https://www.hudsonvillepublicschools.org/rileystreet/athletic
 s/calendar/1894614/boys-basketball-at-grandville
DTSTART:20181113T210000Z
DTEND:20181113T233000Z
END:VEVENT
END:VCALENDAR
