BEGIN:VCALENDAR
VERSION:2.0
PRODID:SchoolNow
CALSCALE:GREGORIAN
BEGIN:VEVENT
UID:4ffd3c92-d628-11e8-97f3-12fced445b34
DTSTAMP:20181022T182846Z
SUMMARY:Boys Basketball at Byron Center
URL;VALUE=URI:https://www.hudsonvillepublicschools.org/rileystreet/athletic
 s/calendar/1894612/boys-basketball-at-byron-center
DTSTART:20181108T210000Z
DTEND:20181108T233000Z
END:VEVENT
END:VCALENDAR
