BEGIN:VCALENDAR
VERSION:2.0
PRODID:SchoolNow
CALSCALE:GREGORIAN
BEGIN:VEVENT
UID:03870168-d628-11e8-a66a-121860b0452c
DTSTAMP:20181022T182638Z
SUMMARY:Boys Basketball at Baldwin
URL;VALUE=URI:https://www.hudsonvillepublicschools.org/rileystreet/athletic
 s/calendar/1894611/boys-basketball-at-baldwin
DTSTART:20181106T210000Z
DTEND:20181106T233000Z
END:VEVENT
END:VCALENDAR
