BEGIN:VCALENDAR
VERSION:2.0
PRODID:SchoolNow
CALSCALE:GREGORIAN
BEGIN:VEVENT
UID:7a8891ba-d627-11e8-98d2-0a26ba0054ee
DTSTAMP:20181022T182248Z
SUMMARY:Boys Basketball vs. Valleywood
URL;VALUE=URI:https://www.hudsonvillepublicschools.org/rileystreet/athletic
 s/calendar/1894610/boys-basketball-vs-valleywood
DTSTART:20181101T200000Z
DTEND:20181101T223000Z
END:VEVENT
END:VCALENDAR
