BEGIN:VCALENDAR
VERSION:2.0
PRODID:SchoolNow
CALSCALE:GREGORIAN
BEGIN:VEVENT
UID:12581984-aa36-11e8-b20c-12a04a2bd688
DTSTAMP:20180827T201624Z
SUMMARY:Cross Country at WO Invitational at Mac Bay Middle
URL;VALUE=URI:https://www.hudsonvillepublicschools.org/rileystreet/athletic
 s/calendar/1847552/cross-country-at-wo-invitational-at-mac-bay-middle
DTSTART:20180908T150000Z
DTEND:20180908T170000Z
END:VEVENT
END:VCALENDAR
