BEGIN:VCALENDAR
VERSION:2.0
PRODID:SchoolNow
CALSCALE:GREGORIAN
BEGIN:VEVENT
UID:9eb0d1b0-a7dd-11e8-ae55-0af45a3702ee
DTSTAMP:20180910T141036Z
SUMMARY:Blue Football 7th Grade at Byron Center
URL;VALUE=URI:https://www.hudsonvillepublicschools.org/rileystreet/athletic
 s/calendar/1842439/blue-football-7th-grade-at-byron-center
DTSTART:20181016T203000Z
DTEND:20181016T220000Z
END:VEVENT
END:VCALENDAR
