BEGIN:VCALENDAR
VERSION:2.0
PRODID:SchoolNow
CALSCALE:GREGORIAN
BEGIN:VEVENT
UID:3eac10ea-a7dd-11e8-bb93-12eb6e37eb8e
DTSTAMP:20180824T203531Z
SUMMARY:Blue Football
URL;VALUE=URI:https://www.hudsonvillepublicschools.org/rileystreet/athletic
 s/calendar/1842435/blue-football
DTSTART:20181010T200000Z
DTEND:20181010T223000Z
END:VEVENT
END:VCALENDAR
