BEGIN:VCALENDAR
VERSION:2.0
PRODID:SchoolNow
CALSCALE:GREGORIAN
BEGIN:VEVENT
UID:0bcaa010-a7dd-11e8-b41d-0a0113df64f2
DTSTAMP:20180824T203645Z
SUMMARY:Blue Football 8th Grade vs. Zeeland Creekside ** 5:30 start time
URL;VALUE=URI:https://www.hudsonvillepublicschools.org/rileystreet/athletic
 s/calendar/1842432/blue-football-8th-grade-vs-zeeland-creekside-5-30-start
 -time
DTSTART:20181002T213000Z
DTEND:20181002T230000Z
END:VEVENT
END:VCALENDAR
