BEGIN:VCALENDAR
VERSION:2.0
PRODID:SchoolNow
CALSCALE:GREGORIAN
BEGIN:VEVENT
UID:bc85bf9e-a7dc-11e8-94a5-0a0113df64f2
DTSTAMP:20180824T203153Z
SUMMARY:Blue Football 7th Grade - BYE
URL;VALUE=URI:https://www.hudsonvillepublicschools.org/rileystreet/athletic
 s/calendar/1842430/blue-football-7th-grade-bye
DTSTART:20181002T200000Z
DTEND:20181002T200500Z
END:VEVENT
END:VCALENDAR
