BEGIN:VCALENDAR
VERSION:2.0
PRODID:SchoolNow
CALSCALE:GREGORIAN
BEGIN:VEVENT
UID:77b6fde2-a7dc-11e8-9bc8-0a0113df64f2
DTSTAMP:20180824T202957Z
SUMMARY:Blue Football vs. Muskegon
URL;VALUE=URI:https://www.hudsonvillepublicschools.org/rileystreet/athletic
 s/calendar/1842424/blue-football-vs-muskegon
DTSTART:20180926T200000Z
DTEND:20180926T223000Z
END:VEVENT
END:VCALENDAR
