BEGIN:VCALENDAR
VERSION:2.0
PRODID:SchoolNow
CALSCALE:GREGORIAN
BEGIN:VEVENT
UID:8308902e-a7d8-11e8-a235-0a5981c3a38e
DTSTAMP:20180824T200138Z
SUMMARY:Blue Football 8th Grade at Reeths Puffer
URL;VALUE=URI:https://www.hudsonvillepublicschools.org/rileystreet/athletic
 s/calendar/1842402/blue-football-8th-grade-at-reeths-puffer
DTSTART:20180919T213000Z
DTEND:20180919T230000Z
END:VEVENT
END:VCALENDAR
