BEGIN:VCALENDAR
VERSION:2.0
PRODID:SchoolNow
CALSCALE:GREGORIAN
BEGIN:VEVENT
UID:472b9ab0-a7d8-11e8-b916-1271e16d1952
DTSTAMP:20180910T140936Z
SUMMARY:Blue Football at Hamilton
URL;VALUE=URI:https://www.hudsonvillepublicschools.org/rileystreet/athletic
 s/calendar/1842398/blue-football-at-holland-christian
DTSTART:20180919T200000Z
DTEND:20180919T212000Z
END:VEVENT
END:VCALENDAR
