BEGIN:VCALENDAR
VERSION:2.0
PRODID:SchoolNow
CALSCALE:GREGORIAN
BEGIN:VEVENT
UID:1660b032-a7d8-11e8-a6a7-0a756cb9eb06
DTSTAMP:20180824T203558Z
SUMMARY:Blue Football 8th Grade at Hamilton
URL;VALUE=URI:https://www.hudsonvillepublicschools.org/rileystreet/athletic
 s/calendar/1842396/blue-football-8th-grade-at-hamilton
DTSTART:20180912T213000Z
DTEND:20180912T230000Z
END:VEVENT
END:VCALENDAR
