BEGIN:VCALENDAR
VERSION:2.0
PRODID:SchoolNow
CALSCALE:GREGORIAN
BEGIN:VEVENT
UID:ccf8c9ca-a7d7-11e8-a41b-128e5e185ee4
DTSTAMP:20180824T195633Z
SUMMARY:Blue Football 7th Grade at Byron Center ** 4:30 start time
URL;VALUE=URI:https://www.hudsonvillepublicschools.org/rileystreet/athletic
 s/calendar/1842393/blue-football-7th-grade-at-byron-center-4-30-start-time
DTSTART:20180912T203000Z
DTEND:20180912T220000Z
END:VEVENT
END:VCALENDAR
