BEGIN:VCALENDAR
VERSION:2.0
PRODID:SchoolNow
CALSCALE:GREGORIAN
BEGIN:VEVENT
UID:92d4ed5a-a7d7-11e8-b4bd-0a91c52a5d34
DTSTAMP:20180824T195455Z
SUMMARY:Blue Football vs. West Ottawa
URL;VALUE=URI:https://www.hudsonvillepublicschools.org/rileystreet/athletic
 s/calendar/1842390/blue-football-vs-west-ottawa
DTSTART:20180905T200000Z
DTEND:20180905T223000Z
END:VEVENT
END:VCALENDAR
