BEGIN:VCALENDAR
VERSION:2.0
PRODID:SchoolNow
CALSCALE:GREGORIAN
BEGIN:VEVENT
UID:d43b1c7a-a7d6-11e8-8709-0a5981c3a38e
DTSTAMP:20180824T194936Z
SUMMARY:Maize Fotball 8th Grade at Jenison  ** 4:00 start time
URL;VALUE=URI:https://www.hudsonvillepublicschools.org/rileystreet/athletic
 s/calendar/1842385/maize-fotball-8th-grade-at-jenison-4-00-start-time
DTSTART:20181010T200000Z
DTEND:20181010T213000Z
END:VEVENT
END:VCALENDAR
