BEGIN:VCALENDAR
VERSION:2.0
PRODID:SchoolNow
CALSCALE:GREGORIAN
BEGIN:VEVENT
UID:898c680a-a7d6-11e8-9eaf-0af45a3702ee
DTSTAMP:20180824T194730Z
SUMMARY:Maize Football 7th Grade at Zeeland Creekside
URL;VALUE=URI:https://www.hudsonvillepublicschools.org/rileystreet/athletic
 s/calendar/1842384/maize-football-7th-grade-at-zeeland-creekside
DTSTART:20181010T200000Z
DTEND:20181010T212000Z
END:VEVENT
END:VCALENDAR
