BEGIN:VCALENDAR
VERSION:2.0
PRODID:SchoolNow
CALSCALE:GREGORIAN
BEGIN:VEVENT
UID:59b9ca0a-a7d6-11e8-82f6-1253856ee95c
DTSTAMP:20180824T194610Z
SUMMARY:Maize Football 8th Grade vs. Reeths Puffer
URL;VALUE=URI:https://www.hudsonvillepublicschools.org/rileystreet/athletic
 s/calendar/1842383/maize-football-8th-grade-vs-reeths-puffer
DTSTART:20181003T213000Z
DTEND:20181003T230000Z
END:VEVENT
END:VCALENDAR
