BEGIN:VCALENDAR
VERSION:2.0
PRODID:SchoolNow
CALSCALE:GREGORIAN
BEGIN:VEVENT
UID:117a1a88-a7d6-11e8-a7e0-1253856ee95c
DTSTAMP:20180824T194409Z
SUMMARY:Maize Football 7th Vs. Jenison
URL;VALUE=URI:https://www.hudsonvillepublicschools.org/rileystreet/athletic
 s/calendar/1842380/maize-football-7th-vs-jenison
DTSTART:20181003T200000Z
DTEND:20181003T212000Z
END:VEVENT
END:VCALENDAR
