BEGIN:VCALENDAR
VERSION:2.0
PRODID:SchoolNow
CALSCALE:GREGORIAN
BEGIN:VEVENT
UID:e0b2fc62-a7d5-11e8-9d23-12eb6e37eb8e
DTSTAMP:20180824T194247Z
SUMMARY:Maize Football at Grandville
URL;VALUE=URI:https://www.hudsonvillepublicschools.org/rileystreet/athletic
 s/calendar/1842377/maize-football-at-grandville
DTSTART:20180926T200000Z
DTEND:20180926T223000Z
END:VEVENT
END:VCALENDAR
