BEGIN:VCALENDAR
VERSION:2.0
PRODID:SchoolNow
CALSCALE:GREGORIAN
BEGIN:VEVENT
UID:ab97cb02-a7d5-11e8-8c80-12eb6e37eb8e
DTSTAMP:20180824T194118Z
SUMMARY:Maize Football vs. Hamilton
URL;VALUE=URI:https://www.hudsonvillepublicschools.org/rileystreet/athletic
 s/calendar/1842374/maize-football-vs-hamilton
DTSTART:20180919T200000Z
DTEND:20180919T223000Z
END:VEVENT
END:VCALENDAR
