BEGIN:VCALENDAR
VERSION:2.0
PRODID:SchoolNow
CALSCALE:GREGORIAN
BEGIN:VEVENT
UID:63e4da7c-a7d3-11e8-bd57-12c519d1f3a0
DTSTAMP:20180824T192459Z
SUMMARY:Maize Football vs. Zeeland Cityside
URL;VALUE=URI:https://www.hudsonvillepublicschools.org/rileystreet/athletic
 s/calendar/1842354/maize-football-vs-zeeland-cityside
DTSTART:20180912T200000Z
DTEND:20180912T223000Z
END:VEVENT
END:VCALENDAR
