BEGIN:VCALENDAR
VERSION:2.0
PRODID:SchoolNow
CALSCALE:GREGORIAN
BEGIN:VEVENT
UID:0b8bc5c0-a7d3-11e8-81d5-0a5981c3a38e
DTSTAMP:20180824T192230Z
SUMMARY:Maize Football at Mona Shores
URL;VALUE=URI:https://www.hudsonvillepublicschools.org/rileystreet/athletic
 s/calendar/1842350/maize-football-at-mona-shores
DTSTART:20180905T200000Z
DTEND:20180905T223000Z
END:VEVENT
END:VCALENDAR
