BEGIN:VCALENDAR
VERSION:2.0
PRODID:SchoolNow
CALSCALE:GREGORIAN
BEGIN:VEVENT
UID:5836dab2-a7bb-11e8-9644-0a91c52a5d34
DTSTAMP:20180824T163251Z
SUMMARY:Cross Country at MKO Conference Meet
URL;VALUE=URI:https://www.hudsonvillepublicschools.org/rileystreet/athletic
 s/calendar/1842209/cross-country-at-mko-conference-meet
DTSTART:20181010T200000Z
DTEND:20181010T220000Z
END:VEVENT
END:VCALENDAR
