BEGIN:VCALENDAR
VERSION:2.0
PRODID:SchoolNow
CALSCALE:GREGORIAN
BEGIN:VEVENT
UID:7e9f9b54-a701-11e8-9f0f-0a6fe0ede680
DTSTAMP:20180823T182229Z
SUMMARY:Boys Soccer vs Jenison
URL;VALUE=URI:https://www.hudsonvillepublicschools.org/rileystreet/athletic
 s/calendar/1841051/boys-soccer-vs-jenison
DTSTART:20181011T200000Z
DTEND:20181011T220000Z
END:VEVENT
END:VCALENDAR
