BEGIN:VCALENDAR
VERSION:2.0
PRODID:SchoolNow
CALSCALE:GREGORIAN
BEGIN:VEVENT
UID:cff95bbc-a700-11e8-8027-12cf5fb2b0f6
DTSTAMP:20180823T181736Z
SUMMARY:Boys Soccer at Hamilton
URL;VALUE=URI:https://www.hudsonvillepublicschools.org/rileystreet/athletic
 s/calendar/1841037/boys-soccer-at-hamilton
DTSTART:20181009T200000Z
DTEND:20181009T220000Z
END:VEVENT
END:VCALENDAR
