BEGIN:VCALENDAR
VERSION:2.0
PRODID:SchoolNow
CALSCALE:GREGORIAN
BEGIN:VEVENT
UID:93a3562c-a700-11e8-9dfc-0a572c880e14
DTSTAMP:20180823T181555Z
SUMMARY:Boys Soccer vs. Byron Center
URL;VALUE=URI:https://www.hudsonvillepublicschools.org/rileystreet/athletic
 s/calendar/1841036/boys-soccer-vs-byron-center
DTSTART:20181004T200000Z
DTEND:20181004T220000Z
END:VEVENT
END:VCALENDAR
