BEGIN:VCALENDAR
VERSION:2.0
PRODID:SchoolNow
CALSCALE:GREGORIAN
BEGIN:VEVENT
UID:e4a902fc-a6ff-11e8-8110-0a572c880e14
DTSTAMP:20180823T181101Z
SUMMARY:Boys Soccer vs Grand Haven - 8th grade only
URL;VALUE=URI:https://www.hudsonvillepublicschools.org/rileystreet/athletic
 s/calendar/1841035/boys-soccer-vs-grand-haven-8th-grade-only
DTSTART:20181002T200000Z
DTEND:20181002T213000Z
END:VEVENT
END:VCALENDAR
