BEGIN:VCALENDAR
VERSION:2.0
PRODID:SchoolNow
CALSCALE:GREGORIAN
BEGIN:VEVENT
UID:05025cac-a6ff-11e8-a3a0-12e43fbaa6de
DTSTAMP:20180823T180446Z
SUMMARY:Boys Soccer vs. Holland Christian
URL;VALUE=URI:https://www.hudsonvillepublicschools.org/rileystreet/athletic
 s/calendar/1841028/boys-soccer-vs-holland-christian
DTSTART:20180927T200000Z
DTEND:20180927T220000Z
END:VEVENT
END:VCALENDAR
