BEGIN:VCALENDAR
VERSION:2.0
PRODID:SchoolNow
CALSCALE:GREGORIAN
BEGIN:VEVENT
UID:7e50ae8e-a6fe-11e8-b1de-0afaf88788d2
DTSTAMP:20180823T180100Z
SUMMARY:Boys Soccer vs. Zeeland Cityside
URL;VALUE=URI:https://www.hudsonvillepublicschools.org/rileystreet/athletic
 s/calendar/1841027/boys-soccer-vs-zeeland-cityside
DTSTART:20180925T200000Z
DTEND:20180925T220000Z
END:VEVENT
END:VCALENDAR
