BEGIN:VCALENDAR
VERSION:2.0
PRODID:SchoolNow
CALSCALE:GREGORIAN
BEGIN:VEVENT
UID:acbced56-a6fd-11e8-a14d-0a6fe0ede680
DTSTAMP:20180823T175508Z
SUMMARY:Boys Soccer vs. West Ottawa
URL;VALUE=URI:https://www.hudsonvillepublicschools.org/rileystreet/athletic
 s/calendar/1841025/boys-soccer-vs-west-ottawa
DTSTART:20180918T200000Z
DTEND:20180918T220000Z
END:VEVENT
END:VCALENDAR
