BEGIN:VCALENDAR
VERSION:2.0
PRODID:SchoolNow
CALSCALE:GREGORIAN
BEGIN:VEVENT
UID:56a256c2-a6fd-11e8-94c6-125ed26fb524
DTSTAMP:20180823T175244Z
SUMMARY:Boys Soccer at Holland
URL;VALUE=URI:https://www.hudsonvillepublicschools.org/rileystreet/athletic
 s/calendar/1841024/boys-soccer-at-holland
DTSTART:20180917T200000Z
DTEND:20180917T220000Z
END:VEVENT
END:VCALENDAR
