BEGIN:VCALENDAR
VERSION:2.0
PRODID:SchoolNow
CALSCALE:GREGORIAN
BEGIN:VEVENT
UID:fe9954bc-a6fc-11e8-a0de-0aac1b061360
DTSTAMP:20180823T175016Z
SUMMARY:Boys Soccer at Muskegon - 7th grade only
URL;VALUE=URI:https://www.hudsonvillepublicschools.org/rileystreet/athletic
 s/calendar/1841023/boys-soccer-at-muskegon-7th-grade-only
DTSTART:20180913T200000Z
DTEND:20180913T220000Z
END:VEVENT
END:VCALENDAR
