BEGIN:VCALENDAR
VERSION:2.0
PRODID:SchoolNow
CALSCALE:GREGORIAN
BEGIN:VEVENT
UID:c69d4ba4-a6fc-11e8-b0fd-125ed26fb524
DTSTAMP:20180823T192525Z
SUMMARY:Boys Soccer at Grandville
URL;VALUE=URI:https://www.hudsonvillepublicschools.org/rileystreet/athletic
 s/calendar/1841022/boys-soccer-at-grandville
DTSTART:20180911T200000Z
DTEND:20180911T220000Z
END:VEVENT
END:VCALENDAR
