BEGIN:VCALENDAR
VERSION:2.0
PRODID:SchoolNow
CALSCALE:GREGORIAN
BEGIN:VEVENT
UID:28da56d2-a6f7-11e8-b3f8-125ed26fb524
DTSTAMP:20180823T175057Z
SUMMARY:Boys Soccer at Zeeland Creekside
URL;VALUE=URI:https://www.hudsonvillepublicschools.org/rileystreet/athletic
 s/calendar/1841012/boys-soccer-at-zeeland-creekside
DTSTART:20180906T200000Z
DTEND:20180906T220000Z
END:VEVENT
END:VCALENDAR
