BEGIN:VCALENDAR
VERSION:2.0
PRODID:SchoolNow
CALSCALE:GREGORIAN
BEGIN:VEVENT
UID:6d7990c2-a649-11e8-9e63-0ab4bb11ed5e
DTSTAMP:20180824T163055Z
SUMMARY:Cross Country at Portage Invitational
URL;VALUE=URI:https://www.hudsonvillepublicschools.org/rileystreet/athletic
 s/calendar/1839681/cross-country-at-portage-invitational
DTSTART:20181006T160000Z
DTEND:20181006T190000Z
END:VEVENT
END:VCALENDAR
