BEGIN:VCALENDAR
VERSION:2.0
PRODID:SchoolNow
CALSCALE:GREGORIAN
BEGIN:VEVENT
UID:a1769718-a648-11e8-98c4-0ab4bb11ed5e
DTSTAMP:20180822T203707Z
SUMMARY:Cross Country at Reeths Puffer
URL;VALUE=URI:https://www.hudsonvillepublicschools.org/rileystreet/athletic
 s/calendar/1839668/cross-country-at-reeths-puffer
DTSTART:20181003T200000Z
DTEND:20181003T213000Z
END:VEVENT
END:VCALENDAR
