BEGIN:VCALENDAR
VERSION:2.0
PRODID:SchoolNow
CALSCALE:GREGORIAN
BEGIN:VEVENT
UID:4e6277ea-a648-11e8-86d4-1292019a249c
DTSTAMP:20180921T174205Z
SUMMARY:Cross Country - Home Meet at Baldwin
URL;VALUE=URI:https://www.hudsonvillepublicschools.org/rileystreet/athletic
 s/calendar/1839667/cross-country-home-meet-at-baldwin
DTSTART:20180925T201500Z
DTEND:20180925T213000Z
END:VEVENT
END:VCALENDAR
