BEGIN:VCALENDAR
VERSION:2.0
PRODID:SchoolNow
CALSCALE:GREGORIAN
BEGIN:VEVENT
UID:0933720a-a648-11e8-b4ef-0ab4bb11ed5e
DTSTAMP:20180822T203542Z
SUMMARY:Cross Country at Grand Haven
URL;VALUE=URI:https://www.hudsonvillepublicschools.org/rileystreet/athletic
 s/calendar/1839666/cross-country-at-grand-haven
DTSTART:20180919T080000Z
DTEND:20180919T220000Z
END:VEVENT
END:VCALENDAR
